BEGIN:VCALENDAR
VERSION:2.0
PRODID:-//ORBCoN - ECPv6.15.15//NONSGML v1.0//EN
CALSCALE:GREGORIAN
METHOD:PUBLISH
X-ORIGINAL-URL:https://transfusionontario.org/en/
X-WR-CALDESC:Events for ORBCoN
REFRESH-INTERVAL;VALUE=DURATION:PT1H
X-Robots-Tag:noindex
X-PUBLISHED-TTL:PT1H
BEGIN:VTIMEZONE
TZID:America/Toronto
BEGIN:DAYLIGHT
TZOFFSETFROM:-0500
TZOFFSETTO:-0400
TZNAME:EDT
DTSTART:20250309T070000
END:DAYLIGHT
BEGIN:STANDARD
TZOFFSETFROM:-0400
TZOFFSETTO:-0500
TZNAME:EST
DTSTART:20251102T060000
END:STANDARD
BEGIN:DAYLIGHT
TZOFFSETFROM:-0500
TZOFFSETTO:-0400
TZNAME:EDT
DTSTART:20260308T070000
END:DAYLIGHT
BEGIN:STANDARD
TZOFFSETFROM:-0400
TZOFFSETTO:-0500
TZNAME:EST
DTSTART:20261101T060000
END:STANDARD
BEGIN:DAYLIGHT
TZOFFSETFROM:-0500
TZOFFSETTO:-0400
TZNAME:EDT
DTSTART:20270314T070000
END:DAYLIGHT
BEGIN:STANDARD
TZOFFSETFROM:-0400
TZOFFSETTO:-0500
TZNAME:EST
DTSTART:20271107T060000
END:STANDARD
END:VTIMEZONE
BEGIN:VEVENT
DTSTART;TZID=America/Toronto:20260325T093000
DTEND;TZID=America/Toronto:20260325T103000
DTSTAMP:20260420T192132
CREATED:20260219T015153Z
LAST-MODIFIED:20260219T032608Z
UID:14385-1774431000-1774434600@transfusionontario.org
SUMMARY:Transfusionists Talk: Transfusion Made Bloody Easy
DESCRIPTION:Learning Objectives (participants will be able to): \n\n\n\n\nUnderstand the etiology and pathophysiology of major transfusion reactions.\n\n\n\n Define nursing actions to care for patients experiencing major transfusionreactions.\n\n\n\nApply the discussion of transfusionists questions to their practice\n\n\n\n\n\nPoster\n\n\n\nRegister here
URL:https://transfusionontario.org/en/event/transfusionists-talk-transfusion-made-bloody-easy-19/
END:VEVENT
BEGIN:VEVENT
DTSTART;TZID=America/Toronto:20260325T143000
DTEND;TZID=America/Toronto:20260325T153000
DTSTAMP:20260420T192132
CREATED:20260219T015657Z
LAST-MODIFIED:20260219T032354Z
UID:14390-1774449000-1774452600@transfusionontario.org
SUMMARY:Transfusionists Talk: Transfusion Made Bloody Easy
DESCRIPTION:Learning Objectives (participants will be able to): \n\n\n\n\nUnderstand the etiology and pathophysiology of major transfusion reactions.\n\n\n\nDefine nursing actions to care for patients experiencing major transfusionreactions.\n\n\n\nApply the discussion of transfusionists questions to their practice\n\n\n\n\n\nPoster\n\n\n\nRegister here
URL:https://transfusionontario.org/en/event/transfusionists-talk-transfusion-made-bloody-easy-20/
END:VEVENT
BEGIN:VEVENT
DTSTART;TZID=America/Toronto:20260326T120000
DTEND;TZID=America/Toronto:20260326T130000
DTSTAMP:20260420T192132
CREATED:20250627T153539Z
LAST-MODIFIED:20260407T140131Z
UID:13799-1774526400-1774530000@transfusionontario.org
SUMMARY:University of Toronto Transfusion Medicine Rounds- March 26\, 2026
DESCRIPTION:Plasma Transfusion Practice Presented by: Dr. Nadia Gabarin \n\n\n\nAntibody Pageants and Parades Presented by: Neeru Sahni \n\n\n\n\nAchieve \n\n\n\n\n\n\n\n\nEvaluation Survey:  \n\n\n\nLink: https://orbcon.limesurvey.net/157514?lang=en \n\n\n\nQR Code:  \n\n\n\n\n\n\n\nJoin the U of T Transfusion Medicine mailing list please Subscribe Here 
URL:https://transfusionontario.org/en/event/university-of-toronto-transfusion-medicine-rounds-march-26-2026/
END:VEVENT
END:VCALENDAR