BEGIN:VCALENDAR
VERSION:2.0
PRODID:-//ORBCoN - ECPv6.15.15//NONSGML v1.0//EN
CALSCALE:GREGORIAN
METHOD:PUBLISH
X-ORIGINAL-URL:https://transfusionontario.org/en/
X-WR-CALDESC:Events for ORBCoN
REFRESH-INTERVAL;VALUE=DURATION:PT1H
X-Robots-Tag:noindex
X-PUBLISHED-TTL:PT1H
BEGIN:VTIMEZONE
TZID:America/Toronto
BEGIN:DAYLIGHT
TZOFFSETFROM:-0500
TZOFFSETTO:-0400
TZNAME:EDT
DTSTART:20250309T070000
END:DAYLIGHT
BEGIN:STANDARD
TZOFFSETFROM:-0400
TZOFFSETTO:-0500
TZNAME:EST
DTSTART:20251102T060000
END:STANDARD
BEGIN:DAYLIGHT
TZOFFSETFROM:-0500
TZOFFSETTO:-0400
TZNAME:EDT
DTSTART:20260308T070000
END:DAYLIGHT
BEGIN:STANDARD
TZOFFSETFROM:-0400
TZOFFSETTO:-0500
TZNAME:EST
DTSTART:20261101T060000
END:STANDARD
BEGIN:DAYLIGHT
TZOFFSETFROM:-0500
TZOFFSETTO:-0400
TZNAME:EDT
DTSTART:20270314T070000
END:DAYLIGHT
BEGIN:STANDARD
TZOFFSETFROM:-0400
TZOFFSETTO:-0500
TZNAME:EST
DTSTART:20271107T060000
END:STANDARD
END:VTIMEZONE
BEGIN:VEVENT
DTSTART;TZID=America/Toronto:20260219T090000
DTEND;TZID=America/Toronto:20260219T120000
DTSTAMP:20260420T212840
CREATED:20251114T193422Z
LAST-MODIFIED:20260219T151922Z
UID:14156-1771491600-1771502400@transfusionontario.org
SUMMARY:CANCELLED TO BE RESCHEDULED- ‘A Day in the Life of a Transfusion Medicine Medical Director’
DESCRIPTION:Virtual Symposium for Community Hospital Laboratory Physicians          \n\n\n\n \n\n\n\n\n\nJoin us for an engaging\, interactive half-day symposium designed specifically for community hospital Laboratory Physicians overseeing Transfusion Medicine. \n\n\n\nRoyal College of Physicians and Surgeons of Canada – Section 1This event is an Accredited Group Learning Activity (Section 1) as defined by the Maintenance of Certification Program of the Royal College of Physicians and Surgeons of Canada\, and approved by Continuing Professional Development\, Temerty Faculty of Medicine\, University of Toronto. \n\n\n\nYou may claim up to a maximum of 3.0 hours (credits are automatically calculated) \n\n\n\nHighlights include: \n\n\n\nLive interactive learning and audience polls \n\n\n\nInsights into the daily practice of a Transfusion Medicine Medical Director \n\n\n\nUpdates on albumin guidelines \n\n\n\nManaging special patients in resource-limited settings \n\n\n\nAddressing inappropriate transfusion orders \n\n\n\n\n\nDon’t miss this opportunity to learn\, connect\, and share experiences with peers across the province. 👉 Register now to secure your spot! https://orbcon.can.chime.live/
URL:https://transfusionontario.org/en/event/a-day-in-the-life-of-a-transfusion-medicine-medical-director/
END:VEVENT
BEGIN:VEVENT
DTSTART;TZID=America/Toronto:20260226T120000
DTEND;TZID=America/Toronto:20260226T130000
DTSTAMP:20260420T212840
CREATED:20250627T153348Z
LAST-MODIFIED:20260219T151747Z
UID:13798-1772107200-1772110800@transfusionontario.org
SUMMARY:CANCELLED University of Toronto Transfusion Medicine Rounds- February 26\, 2026
DESCRIPTION:University of Toronto Transfusion Medicine Rounds scheduled for February 26\, 2026 has been cancelled due to unforeseen circumstances.We apologize for any inconvenience this may cause. \n\n\n\nWe hope you will be able to join us for the next session on March 26\, 2026.  \n\n\n\nThank you for your understanding. \n\n\n\nGuidelines on iron deficiencies and inequities in lab testing  \n\n\n\nPresented by: Dr. Michelle Sholzberg and Dr. Grace Tang \n\n\n\n\n\n\n\nEvaluation Survey: \n\n\n\nLink: https://orbcon.limesurvey.net/756222?lang=en  \n\n\n\nQR Code:  \n\n\n\n\n\n\n\nJoin the U of T Transfusion Medicine mailing list please Subscribe Here 
URL:https://transfusionontario.org/en/event/university-of-toronto-transfusion-medicine-rounds-february-26-2026/
END:VEVENT
END:VCALENDAR