BEGIN:VCALENDAR
VERSION:2.0
PRODID:-//ORBCoN - ECPv6.15.15//NONSGML v1.0//EN
CALSCALE:GREGORIAN
METHOD:PUBLISH
X-WR-CALNAME:ORBCoN
X-ORIGINAL-URL:https://transfusionontario.org/en/
X-WR-CALDESC:Events for ORBCoN
REFRESH-INTERVAL;VALUE=DURATION:PT1H
X-Robots-Tag:noindex
X-PUBLISHED-TTL:PT1H
BEGIN:VTIMEZONE
TZID:America/Toronto
BEGIN:DAYLIGHT
TZOFFSETFROM:-0500
TZOFFSETTO:-0400
TZNAME:EDT
DTSTART:20250309T070000
END:DAYLIGHT
BEGIN:STANDARD
TZOFFSETFROM:-0400
TZOFFSETTO:-0500
TZNAME:EST
DTSTART:20251102T060000
END:STANDARD
BEGIN:DAYLIGHT
TZOFFSETFROM:-0500
TZOFFSETTO:-0400
TZNAME:EDT
DTSTART:20260308T070000
END:DAYLIGHT
BEGIN:STANDARD
TZOFFSETFROM:-0400
TZOFFSETTO:-0500
TZNAME:EST
DTSTART:20261101T060000
END:STANDARD
BEGIN:DAYLIGHT
TZOFFSETFROM:-0500
TZOFFSETTO:-0400
TZNAME:EDT
DTSTART:20270314T070000
END:DAYLIGHT
BEGIN:STANDARD
TZOFFSETFROM:-0400
TZOFFSETTO:-0500
TZNAME:EST
DTSTART:20271107T060000
END:STANDARD
END:VTIMEZONE
BEGIN:VEVENT
DTSTART;TZID=America/Toronto:20260122T120000
DTEND;TZID=America/Toronto:20260122T130000
DTSTAMP:20260423T064606
CREATED:20250627T153229Z
LAST-MODIFIED:20250910T210424Z
UID:13797-1769083200-1769086800@transfusionontario.org
SUMMARY:University of Toronto Transfusion Medicine Rounds- January 22\, 2026
DESCRIPTION:Advances in hemophilia therapy: drinking from the innovation firehose \n\n\n\nPresented by: Dr. David Lillicrap \n\n\n\n\nWatch\n\n\n\nRegister\n\n\n\n\n\n\n\n\nEvaluation Survey:  \n\n\n\nLink: https://orbcon.limesurvey.net/219868?lang=en  \n\n\n\nQR Code:  \n\n\n\n\n\n\n\nJoin the U of T Transfusion Medicine mailing list please Subscribe Here 
URL:https://transfusionontario.org/en/event/university-of-toronto-transfusion-medicine-rounds-january-22-2026/
END:VEVENT
END:VCALENDAR